BEGIN:VCALENDAR
VERSION:2.0
PRODID:-//hacksw/handcal//NONSGML v1.0//EN
CALSCALE:GREGORIAN
BEGIN:VTIMEZONE
TZID:America/Kentucky/Louisville
BEGIN:DAYLIGHT
TZOFFSETFROM:-0600
TZNAME:MDT
TZOFFSETTO:-0600
END:DAYLIGHT
END:VTIMEZONE
DTSTAMP:20260419T095301Z
UID:69e4de3da158f
BEGIN:VEVENT
LOCATION:Western, 604 South Tenth Street, Louisville, KY US 40203
DESCRIPTION:<p>In honor of Autism Acceptance Month, join us for a low-sensory, high-relaxation workshop designed to ground the senses. Unwind with soothing lo-fi beats while you create your own custom-filled stress balls and paint calming meditation stones. Come for the crafts, stay for the calm.</p>
DTSTART;TZID=America/Kentucky/Louisville:20260414T180000
DTEND;TZID=America/Kentucky/Louisville:20260414T190000
SUMMARY:Mindful Makers: A Sensory Workshop
URL;VALUE=URI:/mindful-makers-sensory-workshop-0
END:VEVENT
END:VCALENDAR