BEGIN:VCALENDAR
VERSION:2.0
PRODID:-//hacksw/handcal//NONSGML v1.0//EN
CALSCALE:GREGORIAN
BEGIN:VTIMEZONE
TZID:America/Kentucky/Louisville
BEGIN:DAYLIGHT
TZOFFSETFROM:-0600
TZNAME:MDT
TZOFFSETTO:-0600
END:DAYLIGHT
END:VTIMEZONE
DTSTAMP:20260419T095932Z
UID:69e4dfc4950e2
BEGIN:VEVENT
LOCATION:Crescent Hill, 2762 Frankfort Ave., Louisville, KY US 40206
DESCRIPTION:<p style="line-height:normal;margin-bottom:0in;"><span style="font-family:&quot;Calibri Light&quot;,sans-serif;font-size:12.0pt;">Saturday is the Frankfort Avenue Easter Parade make a hat to wear! Ages 3-10.</span></p>
DTSTART;TZID=America/Kentucky/Louisville:20260401T154500
DTEND;TZID=America/Kentucky/Louisville:20260401T163000
SUMMARY:Make a Bonnet for the Easter Parade
URL;VALUE=URI:/make-bonnet-easter-parade-2
END:VEVENT
END:VCALENDAR