BEGIN:VCALENDAR
VERSION:2.0
PRODID:-//hacksw/handcal//NONSGML v1.0//EN
CALSCALE:GREGORIAN
BEGIN:VTIMEZONE
TZID:America/Kentucky/Louisville
BEGIN:DAYLIGHT
TZOFFSETFROM:-0600
TZNAME:MDT
TZOFFSETTO:-0600
END:DAYLIGHT
END:VTIMEZONE
DTSTAMP:20260419T095734Z
UID:69e4df4e0d570
BEGIN:VEVENT
LOCATION:Crescent Hill, 2762 Frankfort Ave., Louisville, KY US 40206
DESCRIPTION:<p style="line-height:normal;margin-bottom:0in;"><span style="font-family:&quot;Calibri Light&quot;,sans-serif;font-size:12.0pt;">Join members of the community as they think about and discuss current topics. Contact the branch for full details.</span></p>
DTSTART;TZID=America/Kentucky/Louisville:20260401T180000
DTEND;TZID=America/Kentucky/Louisville:20260401T193000
SUMMARY:Meeting of the Minds  
URL;VALUE=URI:/meeting-minds-29
END:VEVENT
END:VCALENDAR