BEGIN:VCALENDAR
VERSION:2.0
PRODID:-//hacksw/handcal//NONSGML v1.0//EN
CALSCALE:GREGORIAN
BEGIN:VTIMEZONE
TZID:America/Kentucky/Louisville
BEGIN:DAYLIGHT
TZOFFSETFROM:-0600
TZNAME:MDT
TZOFFSETTO:-0600
END:DAYLIGHT
END:VTIMEZONE
DTSTAMP:20260419T095534Z
UID:69e4ded63c9a6
BEGIN:VEVENT
LOCATION:Crescent Hill, 2762 Frankfort Ave., Louisville, KY US 40206
DESCRIPTION:<p style="margin-bottom:0in;"><span style="font-family:&quot;Calibri Light&quot;,sans-serif;font-size:12.0pt;line-height:107%;">Drop in and craft with your community! Whether you are a seasoned knitter, or a new crafty hard hitter, we have room for you. Prepared makes or personal projects, ALL are welcome! Meet new faces or bring a friend. Tea and coffee available.&nbsp;</span></p>
DTSTART;TZID=America/Kentucky/Louisville:20260404T133000
DTEND;TZID=America/Kentucky/Louisville:20260404T153000
SUMMARY:Sit ‘n Stitch
URL;VALUE=URI:/sit-n-stitch-2
END:VEVENT
END:VCALENDAR