BEGIN:VCALENDAR
VERSION:2.0
PRODID:-//hacksw/handcal//NONSGML v1.0//EN
CALSCALE:GREGORIAN
BEGIN:VTIMEZONE
TZID:America/Kentucky/Louisville
BEGIN:DAYLIGHT
TZOFFSETFROM:-0600
TZNAME:MDT
TZOFFSETTO:-0600
END:DAYLIGHT
END:VTIMEZONE
DTSTAMP:20260419T095101Z
UID:69e4ddc52eb79
BEGIN:VEVENT
LOCATION:Crescent Hill, 2762 Frankfort Ave., Louisville, KY US 40206
DESCRIPTION:<p style="line-height:normal;margin-bottom:0in;"><span style="font-family:&quot;Calibri Light&quot;,sans-serif;font-size:12.0pt;">Inspired by The Lorax by Dr. Seuss, explore the benefits of trees, how they provide food and oxygen, habitats for animals, shade in the summer and absorb heat. We will also play games and make crafts! Limit 30. To register, call 574-1793. Ages 3-6</span></p>
DTSTART;TZID=America/Kentucky/Louisville:20260406T143000
DTEND;TZID=America/Kentucky/Louisville:20260406T153000
SUMMARY:Brightside Kids: The Lorax 
URL;VALUE=URI:/brightside-kids-lorax-6
END:VEVENT
END:VCALENDAR