BEGIN:VCALENDAR
VERSION:2.0
PRODID:-//hacksw/handcal//NONSGML v1.0//EN
CALSCALE:GREGORIAN
BEGIN:VTIMEZONE
TZID:America/Kentucky/Louisville
BEGIN:DAYLIGHT
TZOFFSETFROM:-0600
TZNAME:MDT
TZOFFSETTO:-0600
END:DAYLIGHT
END:VTIMEZONE
DTSTAMP:20260419T095915Z
UID:69e4dfb3a641e
BEGIN:VEVENT
LOCATION:Parkland, 2743 Virginia Ave, Louisville, KY US 40211
DESCRIPTION:<p><span style="color:black;font-family:&quot;Times New Roman&quot;,serif;font-size:12.0pt;line-height:107%;">Join us for Storytime - where stories, songs, and smiles come to life for our littlest listeners! <strong>Ages 0-10</strong></span></p>
DTSTART;TZID=America/Kentucky/Louisville:20260406T180000
DTEND;TZID=America/Kentucky/Louisville:20260406T190000
SUMMARY:Family Storytime
URL;VALUE=URI:/family-storytime-279
END:VEVENT
END:VCALENDAR