BEGIN:VCALENDAR
VERSION:2.0
PRODID:-//hacksw/handcal//NONSGML v1.0//EN
CALSCALE:GREGORIAN
BEGIN:VTIMEZONE
TZID:America/Kentucky/Louisville
BEGIN:DAYLIGHT
TZOFFSETFROM:-0600
TZNAME:MDT
TZOFFSETTO:-0600
END:DAYLIGHT
END:VTIMEZONE
DTSTAMP:20260419T095600Z
UID:69e4def0efa13
BEGIN:VEVENT
LOCATION:Parkland, 2743 Virginia Ave, Louisville, KY US 40211
DESCRIPTION:<p><span style="color:black;font-family:&quot;Calibri&quot;,sans-serif;font-size:11.0pt;line-height:107%;">This non-traditional book group is for people who love to read, but can never find the time!&nbsp; We will have a period of quiet reading followed by a group reading and discussion. Books for reading and checkout will be provided.</span></p>
DTSTART;TZID=America/Kentucky/Louisville:20260402T180000
DTEND;TZID=America/Kentucky/Louisville:20260402T193000
SUMMARY:Reading Together
URL;VALUE=URI:/reading-together-1
END:VEVENT
END:VCALENDAR