BEGIN:VCALENDAR
VERSION:2.0
PRODID:-//hacksw/handcal//NONSGML v1.0//EN
CALSCALE:GREGORIAN
BEGIN:VTIMEZONE
TZID:America/Kentucky/Louisville
BEGIN:DAYLIGHT
TZOFFSETFROM:-0600
TZNAME:MDT
TZOFFSETTO:-0600
END:DAYLIGHT
END:VTIMEZONE
DTSTAMP:20260419T095733Z
UID:69e4df4d96ec7
BEGIN:VEVENT
LOCATION:Parkland, 2743 Virginia Ave, Louisville, KY US 40211
DESCRIPTION:<p style="line-height:normal;margin-bottom:0in;"><span style="color:black;font-family:&quot;Times New Roman&quot;,serif;font-size:12.0pt;">Get involved in your community with Parkland’s Teen Advisory Board! Have a hand in planning teen programs and activities, learn new skills, meet new friends, and use your voice! For ages 13-18. For more information and application details, please call 502-574-1832.</span><span style="font-family:&quot;Times New Roman&quot;,serif;font-size:12.0pt;"></span></p>
DTSTART;TZID=America/Kentucky/Louisville:20260402T160000
DTEND;TZID=America/Kentucky/Louisville:20260402T170000
SUMMARY:Teen Advisory Board
URL;VALUE=URI:/teen-advisory-board-40
END:VEVENT
END:VCALENDAR