BEGIN:VCALENDAR
VERSION:2.0
PRODID:-//hacksw/handcal//NONSGML v1.0//EN
CALSCALE:GREGORIAN
BEGIN:VTIMEZONE
TZID:America/Kentucky/Louisville
BEGIN:DAYLIGHT
TZOFFSETFROM:-0600
TZNAME:MDT
TZOFFSETTO:-0600
END:DAYLIGHT
END:VTIMEZONE
DTSTAMP:20260419T095802Z
UID:69e4df6a2cfff
BEGIN:VEVENT
LOCATION:Parkland, 2743 Virginia Ave, Louisville, KY US 40211
DESCRIPTION:<p><span style="color:black;font-family:&quot;Calibri&quot;,sans-serif;font-size:11.0pt;line-height:107%;">This program will feature a variety of classic and new board games. So come enjoy an hour of fun and friendly competition! <strong>Ages 5-12</strong></span></p>
DTSTART;TZID=America/Kentucky/Louisville:20260413T180000
DTEND;TZID=America/Kentucky/Louisville:20260413T190000
SUMMARY:Library Legends Jr: Game Time
URL;VALUE=URI:/library-legends-jr-game-time-16
END:VEVENT
END:VCALENDAR