BEGIN:VCALENDAR
VERSION:2.0
PRODID:-//hacksw/handcal//NONSGML v1.0//EN
CALSCALE:GREGORIAN
BEGIN:VTIMEZONE
TZID:America/Kentucky/Louisville
BEGIN:DAYLIGHT
TZOFFSETFROM:-0600
TZNAME:MDT
TZOFFSETTO:-0600
END:DAYLIGHT
END:VTIMEZONE
DTSTAMP:20260419T095932Z
UID:69e4dfc4baed3
BEGIN:VEVENT
LOCATION:Parkland, 2743 Virginia Ave, Louisville, KY US 40211
DESCRIPTION:<p><span style="color:black;font-family:&quot;Calibri&quot;,sans-serif;font-size:11.0pt;line-height:107%;">Come join our group to talk and share the experience of being a single father. Topics to include: emotional, legal, interpersonal, and aspirational subjects</span></p>
DTSTART;TZID=America/Kentucky/Louisville:20260414T183000
DTEND;TZID=America/Kentucky/Louisville:20260414T193000
SUMMARY:Single Dads Support Group
URL;VALUE=URI:/single-dads-support-group-13
END:VEVENT
END:VCALENDAR