BEGIN:VCALENDAR
VERSION:2.0
PRODID:-//hacksw/handcal//NONSGML v1.0//EN
CALSCALE:GREGORIAN
BEGIN:VTIMEZONE
TZID:America/Kentucky/Louisville
BEGIN:DAYLIGHT
TZOFFSETFROM:-0600
TZNAME:MDT
TZOFFSETTO:-0600
END:DAYLIGHT
END:VTIMEZONE
DTSTAMP:20260419T095837Z
UID:69e4df8d8a58a
BEGIN:VEVENT
LOCATION:Parkland, 2743 Virginia Ave, Louisville, KY US 40211
DESCRIPTION:<p><span style="color:black;font-family:&quot;Calibri&quot;,sans-serif;font-size:11.0pt;line-height:107%;">Have you ever wanted to harness your creative thinking into words or prose? Join us for a creative writing workshop at Parkland! Expect engaging prompts and guidance throughout this workshop. Bring your curiosity and creativity! Paper and writing utensils provided.</span></p>
DTSTART;TZID=America/Kentucky/Louisville:20260408T183000
DTEND;TZID=America/Kentucky/Louisville:20260408T193000
SUMMARY:Creative Writing Workshop
URL;VALUE=URI:/creative-writing-workshop-12
END:VEVENT
END:VCALENDAR