BEGIN:VCALENDAR
VERSION:2.0
PRODID:-//hacksw/handcal//NONSGML v1.0//EN
CALSCALE:GREGORIAN
BEGIN:VTIMEZONE
TZID:America/Kentucky/Louisville
BEGIN:DAYLIGHT
TZOFFSETFROM:-0600
TZNAME:MDT
TZOFFSETTO:-0600
END:DAYLIGHT
END:VTIMEZONE
DTSTAMP:20260419T095204Z
UID:69e4de045a141
BEGIN:VEVENT
LOCATION:Parkland, 2743 Virginia Ave, Louisville, KY US 40211
DESCRIPTION:<p><span style="color:black;font-family:&quot;Times New Roman&quot;,serif;font-size:12.0pt;line-height:107%;">Spring has bloomed at the library! Build your own Lego bouquet to celebrate the arrival of spring– no dirt, no watering, just creativity. When you’re finished, take it home to add a floral boost to your space! Limited availability of 6. Please call (502)-574-1832 to register. For middle and high school students.</span></p>
DTSTART;TZID=America/Kentucky/Louisville:20260411T140000
DTEND;TZID=America/Kentucky/Louisville:20260411T153000
SUMMARY:In Bloom! A Lego Make & Take
URL;VALUE=URI:/bloom-lego-make-take-0
END:VEVENT
END:VCALENDAR