BEGIN:VCALENDAR
VERSION:2.0
PRODID:-//hacksw/handcal//NONSGML v1.0//EN
CALSCALE:GREGORIAN
BEGIN:VTIMEZONE
TZID:America/Kentucky/Louisville
BEGIN:DAYLIGHT
TZOFFSETFROM:-0600
TZNAME:MDT
TZOFFSETTO:-0600
END:DAYLIGHT
END:VTIMEZONE
DTSTAMP:20260419T095534Z
UID:69e4ded6371d2
BEGIN:VEVENT
DESCRIPTION:<p style="margin-bottom:.0001pt;"><span style="font-size:12.0pt;line-height:107%;">Join the Friends of the Shawnee Library to learn more about how to support and advocate for the library.</span></p>
DTSTART;TZID=America/Kentucky/Louisville:20260406T110000
DTEND;TZID=America/Kentucky/Louisville:20260406T123000
SUMMARY:Shawnee Friends of the Library
URL;VALUE=URI:/shawnee-friends-library-18
END:VEVENT
END:VCALENDAR