BEGIN:VCALENDAR
VERSION:2.0
PRODID:-//hacksw/handcal//NONSGML v1.0//EN
CALSCALE:GREGORIAN
BEGIN:VTIMEZONE
TZID:America/Kentucky/Louisville
BEGIN:DAYLIGHT
TZOFFSETFROM:-0600
TZNAME:MDT
TZOFFSETTO:-0600
END:DAYLIGHT
END:VTIMEZONE
DTSTAMP:20260419T095009Z
UID:69e4dd9175cb7
BEGIN:VEVENT
LOCATION:Parkland, 2743 Virginia Ave, Louisville, KY US 40211
DESCRIPTION:<p style="margin-bottom:12.0pt;margin-left:0in;margin-right:0in;margin-top:12.0pt;"><span style="color:black;">Discover your inner poet at the library! This National Poetry Month we are making collage pieces that incorporate text from old magazines to create new poems.</span></p><p style="margin-bottom:12.0pt;margin-left:0in;margin-right:0in;margin-top:12.0pt;"><span style="color:black;">Registration required. Call 574-1832 or email AdultRef20@lfpl.org to register.</span></p>
DTSTART;TZID=America/Kentucky/Louisville:20260407T180000
DTEND;TZID=America/Kentucky/Louisville:20260407T193000
SUMMARY:Cozy Crafting: Collage Poetry
URL;VALUE=URI:/cozy-crafting-collage-poetry-0
END:VEVENT
END:VCALENDAR