BEGIN:VCALENDAR
VERSION:2.0
PRODID:-//hacksw/handcal//NONSGML v1.0//EN
CALSCALE:GREGORIAN
BEGIN:VTIMEZONE
TZID:America/Kentucky/Louisville
BEGIN:DAYLIGHT
TZOFFSETFROM:-0600
TZNAME:MDT
TZOFFSETTO:-0600
END:DAYLIGHT
END:VTIMEZONE
DTSTAMP:20260419T095600Z
UID:69e4def0d0f43
BEGIN:VEVENT
DESCRIPTION:<p style="line-height:115%;margin-bottom:.0001pt;"><span style="color:black;font-size:12.0pt;line-height:115%;">Everyone can practice their reading skills at Reading Gym!&nbsp; Build your literacy muscles with fun word games!<strong>&nbsp;</strong></span><strong><span style="font-size:12.0pt;line-height:115%;"></span></strong></p>
DTSTART;TZID=America/Kentucky/Louisville:20260404T130000
DTEND;TZID=America/Kentucky/Louisville:20260404T140000
SUMMARY:Reading Gym
URL;VALUE=URI:/reading-gym-3
END:VEVENT
END:VCALENDAR