BEGIN:VCALENDAR
VERSION:2.0
PRODID:-//hacksw/handcal//NONSGML v1.0//EN
CALSCALE:GREGORIAN
BEGIN:VTIMEZONE
TZID:America/Kentucky/Louisville
BEGIN:DAYLIGHT
TZOFFSETFROM:-0600
TZNAME:MDT
TZOFFSETTO:-0600
END:DAYLIGHT
END:VTIMEZONE
DTSTAMP:20260419T095025Z
UID:69e4dda1ee7ed
BEGIN:VEVENT
LOCATION:Parkland, 2743 Virginia Ave, Louisville, KY US 40211
DESCRIPTION:<p style="margin-bottom:12.0pt;margin-left:0in;margin-right:0in;margin-top:12.0pt;"><span style="color:black;">Come to the Parkland Library and work on making your very own clock radio!&nbsp; Kits are provided, but space is limited.</span></p><p style="margin-bottom:12.0pt;margin-left:0in;margin-right:0in;margin-top:12.0pt;"><span style="color:black;">Registration required. Call 574-1832 or email AdultRef20@lfpl.org to register.</span></p>
DTSTART;TZID=America/Kentucky/Louisville:20260411T130000
DTEND;TZID=America/Kentucky/Louisville:20260411T160000
SUMMARY:DIY Clock Radios!
URL;VALUE=URI:/diy-clock-radios-0
END:VEVENT
END:VCALENDAR