BEGIN:VCALENDAR
VERSION:2.0
PRODID:-//hacksw/handcal//NONSGML v1.0//EN
CALSCALE:GREGORIAN
BEGIN:VTIMEZONE
TZID:America/Kentucky/Louisville
BEGIN:DAYLIGHT
TZOFFSETFROM:-0600
TZNAME:MDT
TZOFFSETTO:-0600
END:DAYLIGHT
END:VTIMEZONE
DTSTAMP:20260421T044929Z
UID:69e73a192c4a8
BEGIN:VEVENT
DESCRIPTION:<p><span style="font-size:12.0pt;line-height:107%;">Enjoy a day of family play at Shawnee! Stretch your creativity with the One-Cup Challenge, build a Mega Figure, get active with our Box Build, or play Duplos with your little ones. There’s something fun for everyone!</span><span style="font-size:12.0pt;line-height:107%;"></span></p>
DTSTART;TZID=America/Kentucky/Louisville:20260314T110000
DTEND;TZID=America/Kentucky/Louisville:20260314T130000
SUMMARY:Family LEGO Party
URL;VALUE=URI:/family-lego-party-4
END:VEVENT
END:VCALENDAR