BEGIN:VCALENDAR
VERSION:2.0
PRODID:-//hacksw/handcal//NONSGML v1.0//EN
CALSCALE:GREGORIAN
BEGIN:VTIMEZONE
TZID:America/Kentucky/Louisville
BEGIN:DAYLIGHT
TZOFFSETFROM:-0600
TZNAME:MDT
TZOFFSETTO:-0600
END:DAYLIGHT
END:VTIMEZONE
DTSTAMP:20260419T095912Z
UID:69e4dfb07ddd6
BEGIN:VEVENT
LOCATION:Iroquois, 601 W. Woodlawn Ave., Louisville, KY US 40215
DESCRIPTION:<p>Bring your latest project to work on in good company.</p>
DTSTART;TZID=America/Kentucky/Louisville:20260413T120000
DTEND;TZID=America/Kentucky/Louisville:20260413T130000
SUMMARY:Sit & Stitch
URL;VALUE=URI:/sit-stitch-25
END:VEVENT
END:VCALENDAR