BEGIN:VCALENDAR
VERSION:2.0
PRODID:-//hacksw/handcal//NONSGML v1.0//EN
CALSCALE:GREGORIAN
BEGIN:VTIMEZONE
TZID:America/Kentucky/Louisville
BEGIN:DAYLIGHT
TZOFFSETFROM:-0600
TZNAME:MDT
TZOFFSETTO:-0600
END:DAYLIGHT
END:VTIMEZONE
DTSTAMP:20260419T095513Z
UID:69e4dec10cfde
BEGIN:VEVENT
LOCATION:Iroquois, 601 W. Woodlawn Ave., Louisville, KY US 40215
DESCRIPTION:<p>Join us for a monthly book discussion. &nbsp;Books are available to check out at the branch. Call 502-574-1720 for titles.</p>
DTSTART;TZID=America/Kentucky/Louisville:20260414T133000
DTEND;TZID=America/Kentucky/Louisville:20260414T143000
SUMMARY:Adult Book Discussion
URL;VALUE=URI:/adult-book-discussion-124
END:VEVENT
END:VCALENDAR