BEGIN:VCALENDAR
VERSION:2.0
PRODID:-//hacksw/handcal//NONSGML v1.0//EN
CALSCALE:GREGORIAN
BEGIN:VTIMEZONE
TZID:America/Kentucky/Louisville
BEGIN:DAYLIGHT
TZOFFSETFROM:-0600
TZNAME:MDT
TZOFFSETTO:-0600
END:DAYLIGHT
END:VTIMEZONE
DTSTAMP:20260419T095740Z
UID:69e4df54651cd
BEGIN:VEVENT
DESCRIPTION:<p>Learn how to use the free resources available for your genealogical research! Attendees will be guided through LFPL’s free genealogy tools and given an overview of the three most popular genealogy websites.&nbsp;<br>15 participant limit, please register by calling 502-574-1720.<br>&nbsp;</p>
DTSTART;TZID=America/Kentucky/Louisville:20260404T100000
DTEND;TZID=America/Kentucky/Louisville:20260404T113000
SUMMARY:Jump into Genealogy: Starting your Genealogical Research
URL;VALUE=URI:/jump-genealogy-starting-your-genealogical-research-0
END:VEVENT
END:VCALENDAR