BEGIN:VCALENDAR
VERSION:2.0
PRODID:-//hacksw/handcal//NONSGML v1.0//EN
CALSCALE:GREGORIAN
BEGIN:VTIMEZONE
TZID:America/Kentucky/Louisville
BEGIN:DAYLIGHT
TZOFFSETFROM:-0600
TZNAME:MDT
TZOFFSETTO:-0600
END:DAYLIGHT
END:VTIMEZONE
DTSTAMP:20260419T095009Z
UID:69e4dd9158eb8
BEGIN:VEVENT
LOCATION:Iroquois, 601 W. Woodlawn Ave., Louisville, KY US 40215
DESCRIPTION:<p>Birth, marriage, and death records are essential resources for verifying information in your family tree. Learn what they are, the information they hold, and how to find them. Bring questions and notes for the Q&amp;A to follow!&nbsp;<br>15 participant limit, please register by calling 502-574-1720.</p>
DTSTART;TZID=America/Kentucky/Louisville:20260413T183000
DTEND;TZID=America/Kentucky/Louisville:20260413T193000
SUMMARY:Jump into Genealogy: Vital Records
URL;VALUE=URI:/jump-genealogy-vital-records-0
END:VEVENT
END:VCALENDAR