BEGIN:VCALENDAR
VERSION:2.0
PRODID:-//hacksw/handcal//NONSGML v1.0//EN
CALSCALE:GREGORIAN
BEGIN:VTIMEZONE
TZID:America/Kentucky/Louisville
BEGIN:DAYLIGHT
TZOFFSETFROM:-0600
TZNAME:MDT
TZOFFSETTO:-0600
END:DAYLIGHT
END:VTIMEZONE
DTSTAMP:20260419T100028Z
UID:69e4dffc98d13
BEGIN:VEVENT
DESCRIPTION:<p><span style="font-size:12.0pt;line-height:107%;">Departs from the corner of Baxter Avenue and Hull Street.</span></p><p><span style="font-size:12.0pt;line-height:107%;">Ramble the streets of Irish Hill, a neighborhood settled by Irish and German immigrants in the mid-1800s. Learn how to spot a cornice, identify dentils, and admire the details that give historic buildings their texture and intrigue. To register, email kaira.tucker@lfpl.org</span></p>
DTSTART;TZID=America/Kentucky/Louisville:20260331T180000
DTEND;TZID=America/Kentucky/Louisville:20260331T193000
SUMMARY:Style Spotting: Irish Hill Architecture Walk 
URL;VALUE=URI:/style-spotting-irish-hill-architecture-walk-0
END:VEVENT
END:VCALENDAR