BEGIN:VCALENDAR
VERSION:2.0
PRODID:-//hacksw/handcal//NONSGML v1.0//EN
CALSCALE:GREGORIAN
BEGIN:VTIMEZONE
TZID:America/Kentucky/Louisville
BEGIN:DAYLIGHT
TZOFFSETFROM:-0600
TZNAME:MDT
TZOFFSETTO:-0600
END:DAYLIGHT
END:VTIMEZONE
DTSTAMP:20260419T095931Z
UID:69e4dfc36f140
BEGIN:VEVENT
DESCRIPTION:<p style="line-height:normal;margin-bottom:.0001pt;"><span style="font-size:12.0pt;">Try out a new approach to tie-dye with Sharpies at the Shawnee Library! Attendees will be provided a garment to dye, but are also welcome to bring items from home.&nbsp;</span></p>
DTSTART;TZID=America/Kentucky/Louisville:20260402T170000
DTEND;TZID=America/Kentucky/Louisville:20260402T180000
SUMMARY:Sharpie Tie-Dye
URL;VALUE=URI:/sharpie-tie-dye-0
END:VEVENT
END:VCALENDAR