BEGIN:VCALENDAR
VERSION:2.0
PRODID:-//hacksw/handcal//NONSGML v1.0//EN
CALSCALE:GREGORIAN
BEGIN:VTIMEZONE
TZID:America/Kentucky/Louisville
BEGIN:DAYLIGHT
TZOFFSETFROM:-0600
TZNAME:MDT
TZOFFSETTO:-0600
END:DAYLIGHT
END:VTIMEZONE
DTSTAMP:20260419T095301Z
UID:69e4de3d6d87d
BEGIN:VEVENT
LOCATION:Fairdale, 10620 W. Manslick Rd., Louisville, KY US 40118
DESCRIPTION:<p style="line-height:normal;margin-bottom:.0001pt;"><span style="font-size:12.0pt;">Create your own cozy hideaway for outdoor critters. Attendees will learn how to make their very own bug hotel from provided materials.&nbsp;</span></p>
DTSTART;TZID=America/Kentucky/Louisville:20260409T170000
DTEND;TZID=America/Kentucky/Louisville:20260409T180000
SUMMARY:Build Your Own Bug Hotel
URL;VALUE=URI:/build-your-own-bug-hotel-0
END:VEVENT
END:VCALENDAR