BEGIN:VCALENDAR
VERSION:2.0
PRODID:-//hacksw/handcal//NONSGML v1.0//EN
CALSCALE:GREGORIAN
BEGIN:VTIMEZONE
TZID:America/Kentucky/Louisville
BEGIN:DAYLIGHT
TZOFFSETFROM:-0600
TZNAME:MDT
TZOFFSETTO:-0600
END:DAYLIGHT
END:VTIMEZONE
DTSTAMP:20260419T095301Z
UID:69e4de3dde925
BEGIN:VEVENT
LOCATION:Shawnee, 3912 West Broadway, Louisville, KY US 40211
DESCRIPTION:<p style="background-color:white;"><span style="background-color:white;color:black;font-size:12.0pt;line-height:107%;">After meeting the queen, a group of young honey bees set out on their adventurous new job: finding pollen and nectar! With the help of an experienced forager bee, the new team learns waggle dance directions and collects treasures to bring home to the hive.</span><span style="color:black;font-size:12.0pt;line-height:107%;"> Ages 0-5.</span></p>
DTSTART;TZID=America/Kentucky/Louisville:20260411T140000
DTEND;TZID=America/Kentucky/Louisville:20260411T150000
SUMMARY:StageOne Family Theatre: Honey Bee Flight
URL;VALUE=URI:/stageone-family-theatre-honey-bee-flight-0
END:VEVENT
END:VCALENDAR