BEGIN:VCALENDAR
VERSION:2.0
PRODID:-//hacksw/handcal//NONSGML v1.0//EN
CALSCALE:GREGORIAN
BEGIN:VTIMEZONE
TZID:America/Kentucky/Louisville
BEGIN:DAYLIGHT
TZOFFSETFROM:-0600
TZNAME:MDT
TZOFFSETTO:-0600
END:DAYLIGHT
END:VTIMEZONE
DTSTAMP:20260419T095512Z
UID:69e4dec0c6bee
BEGIN:VEVENT
DESCRIPTION:<p style="line-height:normal;margin-bottom:0in;"><span style="color:black;">Themed activities to encourage imagination and exploration, and to support developing socio-emotional, language, and motor skills. For ages 2-8.</span><br><br>&nbsp;</p>
DTSTART;TZID=America/Kentucky/Louisville:20260403T103000
DTEND;TZID=America/Kentucky/Louisville:20260403T113000
SUMMARY:Imagination Station: Pizza Parlor
URL;VALUE=URI:/imagination-station-pizza-parlor-0
END:VEVENT
END:VCALENDAR