BEGIN:VCALENDAR
VERSION:2.0
PRODID:-//hacksw/handcal//NONSGML v1.0//EN
CALSCALE:GREGORIAN
BEGIN:VTIMEZONE
TZID:America/Kentucky/Louisville
BEGIN:DAYLIGHT
TZOFFSETFROM:-0600
TZNAME:MDT
TZOFFSETTO:-0600
END:DAYLIGHT
END:VTIMEZONE
DTSTAMP:20260419T095101Z
UID:69e4ddc54ffd8
BEGIN:VEVENT
DESCRIPTION:<p style="background-color:white;margin:0in;"><span style="color:black;font-family:&quot;Calibri&quot;,sans-serif;font-size:11.0pt;">Need to de-stress? Drop on in to color and chat with other adults! Materials provided, but feel free to bring your own. Ages 18+.</span></p>
DTSTART;TZID=America/Kentucky/Louisville:20260407T180000
DTEND;TZID=America/Kentucky/Louisville:20260407T190000
SUMMARY:Adult Coloring Club
URL;VALUE=URI:/adult-coloring-club-6
END:VEVENT
END:VCALENDAR