BEGIN:VCALENDAR
VERSION:2.0
PRODID:-//hacksw/handcal//NONSGML v1.0//EN
CALSCALE:GREGORIAN
BEGIN:VTIMEZONE
TZID:America/Kentucky/Louisville
BEGIN:DAYLIGHT
TZOFFSETFROM:-0600
TZNAME:MDT
TZOFFSETTO:-0600
END:DAYLIGHT
END:VTIMEZONE
DTSTAMP:20260419T095101Z
UID:69e4ddc568c7e
BEGIN:VEVENT
LOCATION:Newburg, 4800 Exeter Ave., Louisville, KY US 40218
DESCRIPTION:<p style="line-height:normal;margin-bottom:0in;margin-top:0in;"><span>Teens can visit with a WAGS dog (and handler) at the library!</span></p>
DTSTART;TZID=America/Kentucky/Louisville:20260414T153000
DTEND;TZID=America/Kentucky/Louisville:20260414T163000
SUMMARY:WAGS, Chill with a dog
URL;VALUE=URI:/wags-chill-dog-15
END:VEVENT
END:VCALENDAR