BEGIN:VCALENDAR
VERSION:2.0
PRODID:-//hacksw/handcal//NONSGML v1.0//EN
CALSCALE:GREGORIAN
BEGIN:VTIMEZONE
TZID:America/Kentucky/Louisville
BEGIN:DAYLIGHT
TZOFFSETFROM:-0600
TZNAME:MDT
TZOFFSETTO:-0600
END:DAYLIGHT
END:VTIMEZONE
DTSTAMP:20260419T095026Z
UID:69e4dda20633e
BEGIN:VEVENT
LOCATION:Newburg, 4800 Exeter Ave., Louisville, KY US 40218
DESCRIPTION:<p style="background-color:white;margin:0in;"><span style="color:black;font-family:&quot;Calibri&quot;,sans-serif;font-size:11.0pt;">Looking to build community with your autistic peers? Stop by our social hour to discuss special interests, seek support, and enjoy some downtime. Email charlie.ward@lfpl.org to register, or with any questions you may have.</span></p>
DTSTART;TZID=America/Kentucky/Louisville:20260414T180000
DTEND;TZID=America/Kentucky/Louisville:20260414T190000
SUMMARY:Autistic Adult Community Hour
URL;VALUE=URI:/autistic-adult-community-hour-2
END:VEVENT
END:VCALENDAR