BEGIN:VCALENDAR
VERSION:2.0
PRODID:-//hacksw/handcal//NONSGML v1.0//EN
CALSCALE:GREGORIAN
BEGIN:VTIMEZONE
TZID:America/Kentucky/Louisville
BEGIN:DAYLIGHT
TZOFFSETFROM:-0600
TZNAME:MDT
TZOFFSETTO:-0600
END:DAYLIGHT
END:VTIMEZONE
DTSTAMP:20260419T095203Z
UID:69e4de03e4a40
BEGIN:VEVENT
LOCATION:Newburg, 4800 Exeter Ave., Louisville, KY US 40218
DESCRIPTION:<p style="background-color:white;margin:0in;">Pokémon fans between the ages of 5-12 meet the third Thursday of each month to play, trade cards, talk about your favorite Pokémon characters, and/or do a simple craft or other activity. Ages 5-12.</p>
DTSTART;TZID=America/Kentucky/Louisville:20260416T173000
DTEND;TZID=America/Kentucky/Louisville:20260416T183000
SUMMARY:Pokémon Club
URL;VALUE=URI:/pokemon-club-12
END:VEVENT
END:VCALENDAR