BEGIN:VCALENDAR
VERSION:2.0
PRODID:-//hacksw/handcal//NONSGML v1.0//EN
CALSCALE:GREGORIAN
BEGIN:VTIMEZONE
TZID:America/Kentucky/Louisville
BEGIN:DAYLIGHT
TZOFFSETFROM:-0600
TZNAME:MDT
TZOFFSETTO:-0600
END:DAYLIGHT
END:VTIMEZONE
DTSTAMP:20260419T082251Z
UID:69e4c91b7035a
BEGIN:VEVENT
LOCATION:Newburg, 4800 Exeter Ave., Louisville, KY US 40218
DESCRIPTION:<p style="background-color:white;margin:0in;">Spark a sense of wonder and curiosity through stories and play-based activities that encourage critical thinking and exploration. Ages 2-8.</p>
DTSTART;TZID=America/Kentucky/Louisville:20260417T103000
DTEND;TZID=America/Kentucky/Louisville:20260417T113000
SUMMARY:STEM Storytime
URL;VALUE=URI:/stem-storytime-6
END:VEVENT
END:VCALENDAR