BEGIN:VCALENDAR
VERSION:2.0
PRODID:-//hacksw/handcal//NONSGML v1.0//EN
CALSCALE:GREGORIAN
BEGIN:VTIMEZONE
TZID:America/Kentucky/Louisville
BEGIN:DAYLIGHT
TZOFFSETFROM:-0600
TZNAME:MDT
TZOFFSETTO:-0600
END:DAYLIGHT
END:VTIMEZONE
DTSTAMP:20260419T095239Z
UID:69e4de2786d50
BEGIN:VEVENT
LOCATION:Parkland, 2743 Virginia Ave, Louisville, KY US 40211
DESCRIPTION:<p style="margin-bottom:12.0pt;margin-left:0in;margin-right:0in;margin-top:12.0pt;"><span style="color:black;">Join us for Savvy Senior! This series is dedicated to elders in our community and is designed to encourage learning, collaboration, self-improvement, and fun! Join us each month for a new theme.&nbsp;</span></p><p style="margin-bottom:12.0pt;margin-left:0in;margin-right:0in;margin-top:12.0pt;"><span style="color:black;"></span></p><p style="margin-bottom:12.0pt;margin-left:0in;margin-right:0in;margin-top:12.0pt;"><span style="color:black;"><strong><u>This month’s topics:</u></strong></span></p><p style="margin-bottom:12.0pt;margin-left:0in;margin-right:0in;margin-top:12.0pt;"><span style="color:black;"><strong>April:</strong> Cardmaking</span></p><p style="margin-bottom:12.0pt;margin-left:0in;margin-right:0in;margin-top:12.0pt;"><span style="color:black;">Registration required. Call 574-1832 or email AdultRef20@lfpl.org to register.</span></p><p style="margin-bottom:12.0pt;margin-left:0in;margin-right:0in;margin-top:12.0pt;">&nbsp;</p>
DTSTART;TZID=America/Kentucky/Louisville:20260408T100000
DTEND;TZID=America/Kentucky/Louisville:20260408T113000
SUMMARY:Savvy Senior
URL;VALUE=URI:/savvy-senior-18
END:VEVENT
END:VCALENDAR