BEGIN:VCALENDAR
VERSION:2.0
PRODID:-//hacksw/handcal//NONSGML v1.0//EN
CALSCALE:GREGORIAN
BEGIN:VTIMEZONE
TZID:America/Kentucky/Louisville
BEGIN:DAYLIGHT
TZOFFSETFROM:-0600
TZNAME:MDT
TZOFFSETTO:-0600
END:DAYLIGHT
END:VTIMEZONE
DTSTAMP:20260419T095203Z
UID:69e4de03e5a1d
BEGIN:VEVENT
LOCATION:Shively, 3920 Dixie Highway, Louisville, KY US 40216
DESCRIPTION:<p>Our combined Storytime, but while exploring the outdoors with therapy dog, Rowan! We will walk, read a Spring related book, and incorporate song and rhyme as we visit different stations throughout Shively Park. Ages 0-8.</p><p>*We will meet in Shively Library program room.</p><p>**In the case of inclement weather, the Story Walk will be rescheduled. Please contact the branch for updates.</p>
DTSTART;TZID=America/Kentucky/Louisville:20260409T103000
DTEND;TZID=America/Kentucky/Louisville:20260409T113000
SUMMARY:Reading With Rowan: Spring Break Story Walk
URL;VALUE=URI:/reading-rowan-spring-break-story-walk-0
END:VEVENT
END:VCALENDAR