BEGIN:VCALENDAR
VERSION:2.0
PRODID:-//hacksw/handcal//NONSGML v1.0//EN
CALSCALE:GREGORIAN
BEGIN:VTIMEZONE
TZID:America/Kentucky/Louisville
BEGIN:DAYLIGHT
TZOFFSETFROM:-0600
TZNAME:MDT
TZOFFSETTO:-0600
END:DAYLIGHT
END:VTIMEZONE
DTSTAMP:20260419T095157Z
UID:69e4ddfda79ad
BEGIN:VEVENT
LOCATION:Shively, 3920 Dixie Highway, Louisville, KY US 40216
DESCRIPTION:<p>Drop in any time between 10:30am and 12pm for an opportunity to gather with friends, meet other families, socialize, craft, and play in a casual setting. Ages 0-8.</p>
DTSTART;TZID=America/Kentucky/Louisville:20260410T103000
DTEND;TZID=America/Kentucky/Louisville:20260410T120000
SUMMARY:Hooray for Play!
URL;VALUE=URI:/hooray-play-2
END:VEVENT
END:VCALENDAR