BEGIN:VCALENDAR
VERSION:2.0
PRODID:-//hacksw/handcal//NONSGML v1.0//EN
CALSCALE:GREGORIAN
BEGIN:VTIMEZONE
TZID:America/Kentucky/Louisville
BEGIN:DAYLIGHT
TZOFFSETFROM:-0600
TZNAME:MDT
TZOFFSETTO:-0600
END:DAYLIGHT
END:VTIMEZONE
DTSTAMP:20260419T095909Z
UID:69e4dfad17f60
BEGIN:VEVENT
DESCRIPTION:<p>March 5 - <em>A Confederacy of Dunces </em>by John Toole</p><p>April 2 - <em>Shane</em> by Jack Schaefer</p>
DTSTART;TZID=America/Kentucky/Louisville:20260402T180000
DTEND;TZID=America/Kentucky/Louisville:20260402T190000
SUMMARY:Book Club
URL;VALUE=URI:/book-club-7
END:VEVENT
END:VCALENDAR