BEGIN:VCALENDAR
VERSION:2.0
PRODID:-//hacksw/handcal//NONSGML v1.0//EN
CALSCALE:GREGORIAN
BEGIN:VTIMEZONE
TZID:America/Kentucky/Louisville
BEGIN:DAYLIGHT
TZOFFSETFROM:-0600
TZNAME:MDT
TZOFFSETTO:-0600
END:DAYLIGHT
END:VTIMEZONE
DTSTAMP:20260419T095513Z
UID:69e4dec12238a
BEGIN:VEVENT
LOCATION:Parkland, 2743 Virginia Ave, Louisville, KY US 40211
DESCRIPTION:<p>City planners from Louisville Metro's Office of Planning will be at your local Louisville Free Public Library branches to answer questions about zoning and discuss changes to the Land Development Code (LDC).</p>
DTSTART;TZID=America/Kentucky/Louisville:20260331T150000
DTEND;TZID=America/Kentucky/Louisville:20260331T190000
SUMMARY:Zoning Matters: Conversation with a City Planner
URL;VALUE=URI:/zoning-matters-conversation-city-planner-15
END:VEVENT
END:VCALENDAR