BEGIN:VCALENDAR
VERSION:2.0
PRODID:-//hacksw/handcal//NONSGML v1.0//EN
CALSCALE:GREGORIAN
BEGIN:VTIMEZONE
TZID:America/Kentucky/Louisville
BEGIN:DAYLIGHT
TZOFFSETFROM:-0600
TZNAME:MDT
TZOFFSETTO:-0600
END:DAYLIGHT
END:VTIMEZONE
DTSTAMP:20260419T095157Z
UID:69e4ddfdb96b6
BEGIN:VEVENT
LOCATION:Northeast Regional, 15 Bellevoir Circle, Louisville, KY US 40223
DESCRIPTION:<p><span style="background-color:white;color:#212529;font-family:&quot;Segoe UI&quot;,sans-serif;font-size:12.0pt;">City planners from Louisville Metro's Office of Planning will be at your local Louisville Free Public Library branches to answer questions about zoning and discuss changes to the Land Development Code (LDC).</span><u5:p></u5:p></p>
DTSTART;TZID=America/Kentucky/Louisville:20260414T150000
DTEND;TZID=America/Kentucky/Louisville:20260414T190000
SUMMARY:Zoning Matters: Conversation with a City Planner
URL;VALUE=URI:/zoning-matters-conversation-city-planner-17
END:VEVENT
END:VCALENDAR