BEGIN:VCALENDAR
VERSION:2.0
PRODID:-//hacksw/handcal//NONSGML v1.0//EN
CALSCALE:GREGORIAN
BEGIN:VTIMEZONE
TZID:America/Kentucky/Louisville
BEGIN:DAYLIGHT
TZOFFSETFROM:-0600
TZNAME:MDT
TZOFFSETTO:-0600
END:DAYLIGHT
END:VTIMEZONE
DTSTAMP:20260419T095641Z
UID:69e4df19c8226
BEGIN:VEVENT
LOCATION:South Central Regional, 7300 Jefferson Boulevard, Louisville, KY US 40219
DESCRIPTION:<p style="line-height:normal;margin-bottom:.0001pt;text-autospace:none;"><span style="color:#001111;font-family:&quot;Arial&quot;,sans-serif;">Kentucky Shakespeare</span><em><span style="color:#001111;font-family:&quot;Arial&quot;,sans-serif;">&nbsp;</span></em><span style="color:#001111;font-family:&quot;Arial&quot;,sans-serif;">returns this year with their </span><em><span style="color:#001111;font-family:&quot;Arial&quot;,sans-serif;">Two-Actor Tempest,&nbsp;</span></em><span style="color:#001111;font-family:&quot;Arial&quot;,sans-serif;">a comedy of magical mischief, exploring the power of empathy and forgiveness.</span></p>
DTSTART;TZID=America/Kentucky/Louisville:20260404T140000
DTEND;TZID=America/Kentucky/Louisville:20260404T153000
SUMMARY:Kentucky Shakespeare’s The Two-Actor Tempest
URL;VALUE=URI:/kentucky-shakespeares-two-actor-tempest-8
END:VEVENT
END:VCALENDAR