BEGIN:VCALENDAR
VERSION:2.0
PRODID:-//hacksw/handcal//NONSGML v1.0//EN
CALSCALE:GREGORIAN
BEGIN:VTIMEZONE
TZID:America/Kentucky/Louisville
BEGIN:DAYLIGHT
TZOFFSETFROM:-0600
TZNAME:MDT
TZOFFSETTO:-0600
END:DAYLIGHT
END:VTIMEZONE
DTSTAMP:20260419T095239Z
UID:69e4de27733b5
BEGIN:VEVENT
LOCATION:Parkland, 2743 Virginia Ave, Louisville, KY US 40211
DESCRIPTION:<p>Jefferson County Master Gardeners help participants will explore the amazing world of garden insects and discover their importance in a healthy backyard ecosystem. &nbsp;Each child will be able to construct their own bug hotel and take it home. &nbsp;Ages 4-12<br>&nbsp;</p>
DTSTART;TZID=America/Kentucky/Louisville:20260406T140000
DTEND;TZID=America/Kentucky/Louisville:20260406T150000
SUMMARY:Kids Build a Bug Hotel
URL;VALUE=URI:/kids-build-bug-hotel-2
END:VEVENT
END:VCALENDAR