BEGIN:VCALENDAR
VERSION:2.0
PRODID:-//hacksw/handcal//NONSGML v1.0//EN
CALSCALE:GREGORIAN
BEGIN:VTIMEZONE
TZID:America/Kentucky/Louisville
BEGIN:DAYLIGHT
TZOFFSETFROM:-0600
TZNAME:MDT
TZOFFSETTO:-0600
END:DAYLIGHT
END:VTIMEZONE
DTSTAMP:20260419T100040Z
UID:69e4e008132b4
BEGIN:VEVENT
LOCATION:Bon Air, 2816 Del Rio Pl., Louisville, KY US 40220
DESCRIPTION:<p>Jefferson County Master Gardeners help participants engage in a talk with presenters about the life cycle of a Sunflower, exploring the three essential ingredients for healthy plant growth. &nbsp;Each child will take home multiple sunflower seeds started and ready to plant in their own garden. &nbsp;Coloring pages of sunflowers will also be available. &nbsp;Ages 3-9<br>&nbsp;</p>
DTSTART;TZID=America/Kentucky/Louisville:20260404T100000
DTEND;TZID=America/Kentucky/Louisville:20260404T110000
SUMMARY:Kids Plant Sunflowers
URL;VALUE=URI:/kids-plant-sunflowers-2
END:VEVENT
END:VCALENDAR