BEGIN:VCALENDAR
VERSION:2.0
PRODID:-//hacksw/handcal//NONSGML v1.0//EN
CALSCALE:GREGORIAN
BEGIN:VTIMEZONE
TZID:America/Kentucky/Louisville
BEGIN:DAYLIGHT
TZOFFSETFROM:-0600
TZNAME:MDT
TZOFFSETTO:-0600
END:DAYLIGHT
END:VTIMEZONE
DTSTAMP:20260419T100029Z
UID:69e4dffd238d1
BEGIN:VEVENT
LOCATION:Highlands-Shelby Park, 1250 Bardstown Rd., #4, Louisville, KY US 40204
DESCRIPTION:<p>In this Table Top Role-Playing Game, play as a group of teens who have mistakenly made a deal with a fey trickster. You’ll be transformed into creatures like fairies, trolls, and goblins, and whisked away to a magical and dangerous labyrinth. You must work together to escape the maze and its obstacles before time runs out—or be trapped there forever!</p><p>This RPG adventure is inspired by systems like Dungeons &amp; Dragons and Kids on Bikes. It requires no previous RPG knowledge or experience, and provides pre-made characters and all other necessary materials. Participation is limited to 6 players; call 574-1672 to reserve your spot.&nbsp;<br>Ages 10-19.<br>&nbsp;</p>
DTSTART;TZID=America/Kentucky/Louisville:20260330T170000
DTEND;TZID=America/Kentucky/Louisville:20260330T190000
SUMMARY:Escape the Labyrinth: TTRPG One-Shot
URL;VALUE=URI:/escape-labyrinth-ttrpg-one-shot-0
END:VEVENT
END:VCALENDAR