BEGIN:VCALENDAR
VERSION:2.0
PRODID:-//hacksw/handcal//NONSGML v1.0//EN
CALSCALE:GREGORIAN
BEGIN:VTIMEZONE
TZID:America/Kentucky/Louisville
BEGIN:DAYLIGHT
TZOFFSETFROM:-0600
TZNAME:MDT
TZOFFSETTO:-0600
END:DAYLIGHT
END:VTIMEZONE
DTSTAMP:20260419T114155Z
UID:69e4f7c318eae
BEGIN:VEVENT
LOCATION:Parkland, 2743 Virginia Ave, Louisville, KY US 40211
DESCRIPTION:<p>Join Jefferson County Soil &amp; Water Conservation District in a hands-on native plant landscape design workshop. During this workshop you will be guided through how to select and place the right native plants in your landscape and go home with some free native plants and seeds. &nbsp;<a href="https://www.lfpl.org/nativegardens">Register: lfpl.org/nativegardens</a></p><p>&nbsp;</p>
DTSTART;TZID=America/Kentucky/Louisville:20260401T180000
DTEND;TZID=America/Kentucky/Louisville:20260401T193000
SUMMARY:Native Plant Gardening 101: How to Start a Native Plant Garden
URL;VALUE=URI:/native-plant-gardening-101-how-start-native-plant-garden-4
END:VEVENT
END:VCALENDAR