BEGIN:VCALENDAR
VERSION:2.0
PRODID:-//hacksw/handcal//NONSGML v1.0//EN
CALSCALE:GREGORIAN
BEGIN:VTIMEZONE
TZID:America/Kentucky/Louisville
BEGIN:DAYLIGHT
TZOFFSETFROM:-0600
TZNAME:MDT
TZOFFSETTO:-0600
END:DAYLIGHT
END:VTIMEZONE
DTSTAMP:20260419T095336Z
UID:69e4de60a68ab
BEGIN:VEVENT
LOCATION:Northeast Regional, 15 Bellevoir Circle, Louisville, KY US 40223
DESCRIPTION:<p>Join our friends from 4-H for a monthly cooking class geared for children and tweens. Each month we learn basic skills in the kitchen. Space is limited. To register call 502-394-0379 or email us at NortheastYouthServices@lfpl.org. Ages 8-12.</p>
DTSTART;TZID=America/Kentucky/Louisville:20260409T170000
DTEND;TZID=America/Kentucky/Louisville:20260409T180000
SUMMARY:4-H Kids Cook: Rockin’ Chicken Tacos
URL;VALUE=URI:/4-h-kids-cook-rockin-chicken-tacos-0
END:VEVENT
END:VCALENDAR