BEGIN:VCALENDAR
VERSION:2.0
PRODID:-//hacksw/handcal//NONSGML v1.0//EN
CALSCALE:GREGORIAN
BEGIN:VTIMEZONE
TZID:America/Kentucky/Louisville
BEGIN:DAYLIGHT
TZOFFSETFROM:-0600
TZNAME:MDT
TZOFFSETTO:-0600
END:DAYLIGHT
END:VTIMEZONE
DTSTAMP:20260419T095301Z
UID:69e4de3d5dd3b
BEGIN:VEVENT
LOCATION:Northeast Regional, 15 Bellevoir Circle, Louisville, KY US 40223
DESCRIPTION:<p>Join us for a story and a simple snack your family makes together. Ages 4-9. To register, please call 502-394-0379 or email northeastyouthservices@lfpl.org.&nbsp;</p>
DTSTART;TZID=America/Kentucky/Louisville:20260411T103000
DTEND;TZID=America/Kentucky/Louisville:20260411T113000
SUMMARY:What’s Cooking? Brown Batter Dip
URL;VALUE=URI:/whats-cooking-brown-batter-dip-0
END:VEVENT
END:VCALENDAR