BEGIN:VCALENDAR
VERSION:2.0
PRODID:-//hacksw/handcal//NONSGML v1.0//EN
CALSCALE:GREGORIAN
BEGIN:VTIMEZONE
TZID:America/Kentucky/Louisville
BEGIN:DAYLIGHT
TZOFFSETFROM:-0600
TZNAME:MDT
TZOFFSETTO:-0600
END:DAYLIGHT
END:VTIMEZONE
DTSTAMP:20260419T095240Z
UID:69e4de28046b8
BEGIN:VEVENT
LOCATION:Northeast Regional, 15 Bellevoir Circle, Louisville, KY US 40223
DESCRIPTION:<p>Take a FREE full length ACT practice test for students who wish to gain experience taking the ACT. &nbsp;Please bring two #2 pencils, a photo ID, and a calculator. To register, please call 502-394-0379 or email northeastyouthservices@lfpl.org. &nbsp;Limited to 25 Participants. Grades 7th – 12th.</p>
DTSTART;TZID=America/Kentucky/Louisville:20260411T093000
DTEND;TZID=America/Kentucky/Louisville:20260411T133000
SUMMARY:ACT Practice Test
URL;VALUE=URI:/act-practice-test-74
END:VEVENT
END:VCALENDAR