BEGIN:VCALENDAR
VERSION:2.0
PRODID:-//hacksw/handcal//NONSGML v1.0//EN
CALSCALE:GREGORIAN
BEGIN:VTIMEZONE
TZID:America/Kentucky/Louisville
BEGIN:DAYLIGHT
TZOFFSETFROM:-0600
TZNAME:MDT
TZOFFSETTO:-0600
END:DAYLIGHT
END:VTIMEZONE
DTSTAMP:20260419T095336Z
UID:69e4de603632a
BEGIN:VEVENT
LOCATION:Northeast Regional, 15 Bellevoir Circle, Louisville, KY US 40223
DESCRIPTION:<p>Materials provided. Space is limited. Please Note: &nbsp;This can count towards volunteer hours. &nbsp;To register call 502-394-0379 or email us at NortheastYouthServices@lfpl.org. Ages 5-11.</p>
DTSTART;TZID=America/Kentucky/Louisville:20260413T170000
DTEND;TZID=America/Kentucky/Louisville:20260413T180000
SUMMARY:4-H Art Club: Planting and Rock Painting
URL;VALUE=URI:/4-h-art-club-planting-and-rock-painting-0
END:VEVENT
END:VCALENDAR