BEGIN:VCALENDAR
VERSION:2.0
PRODID:-//hacksw/handcal//NONSGML v1.0//EN
CALSCALE:GREGORIAN
BEGIN:VTIMEZONE
TZID:America/Kentucky/Louisville
BEGIN:DAYLIGHT
TZOFFSETFROM:-0600
TZNAME:MDT
TZOFFSETTO:-0600
END:DAYLIGHT
END:VTIMEZONE
DTSTAMP:20260419T100040Z
UID:69e4e008b3448
BEGIN:VEVENT
LOCATION:Northeast Regional, 15 Bellevoir Circle, Louisville, KY US 40223
DESCRIPTION:<p>Get cozy in your pj’s and your blanket to snuggle up for a movie. Enjoy a cereal bar and activities! This month is Zootopia 2, Rated PG, running time 108 minutes. Judy Hopps and partner Nick Wilde team up for a new case that'll make hiss-tory. Families welcome!</p>
DTSTART;TZID=America/Kentucky/Louisville:20260404T100000
DTEND;TZID=America/Kentucky/Louisville:20260404T120000
SUMMARY:Cereal Cinema: Zootopia 2 (2025)
URL;VALUE=URI:/cereal-cinema-zootopia-2-2025-0
END:VEVENT
END:VCALENDAR