BEGIN:VCALENDAR
VERSION:2.0
PRODID:-//hacksw/handcal//NONSGML v1.0//EN
CALSCALE:GREGORIAN
BEGIN:VTIMEZONE
TZID:America/Kentucky/Louisville
BEGIN:DAYLIGHT
TZOFFSETFROM:-0600
TZNAME:MDT
TZOFFSETTO:-0600
END:DAYLIGHT
END:VTIMEZONE
DTSTAMP:20260419T095336Z
UID:69e4de608a01c
BEGIN:VEVENT
LOCATION:Northeast Regional, 15 Bellevoir Circle, Louisville, KY US 40223
DESCRIPTION:<p>Curious about creating your own podcast? Join us for a hands-on program where teens will learn the basics of podcasting using the library’s green screen and sound studio. Led by Demarco Harris from Worth the Words Inc. No experience needed, just bring your voice and creativity! For ages 12-18. Registration required. To register, email northeastyouthservices@lfpl.org or call 502-394-0379. *Part of the Teen Life Skills Series</p>
DTSTART;TZID=America/Kentucky/Louisville:20260406T150000
DTEND;TZID=America/Kentucky/Louisville:20260406T160000
SUMMARY:Mic Drop: Podcasting for Teens*
URL;VALUE=URI:/mic-drop-podcasting-teens-0
END:VEVENT
END:VCALENDAR