BEGIN:VCALENDAR
VERSION:2.0
PRODID:-//hacksw/handcal//NONSGML v1.0//EN
CALSCALE:GREGORIAN
BEGIN:VTIMEZONE
TZID:America/Kentucky/Louisville
BEGIN:DAYLIGHT
TZOFFSETFROM:-0600
TZNAME:MDT
TZOFFSETTO:-0600
END:DAYLIGHT
END:VTIMEZONE
DTSTAMP:20260419T095336Z
UID:69e4de6079ea2
BEGIN:VEVENT
LOCATION:Northeast Regional, 15 Bellevoir Circle, Louisville, KY US 40223
DESCRIPTION:<p>Create miniature paintings to be shown and/or sold at the Third Annual NTAB Tiny Art Show on Thursday, April 30. Proceeds benefit the Friends of the Northeast Library. To register call 502-394-0379 or email northeastyouthservices@lfpl.org. &nbsp;Ages 5 - Adult</p>
DTSTART;TZID=America/Kentucky/Louisville:20260407T140000
DTEND;TZID=America/Kentucky/Louisville:20260407T153000
SUMMARY:Making Mini Masterpieces
URL;VALUE=URI:/making-mini-masterpieces-2
END:VEVENT
END:VCALENDAR