BEGIN:VCALENDAR
VERSION:2.0
PRODID:-//hacksw/handcal//NONSGML v1.0//EN
CALSCALE:GREGORIAN
BEGIN:VTIMEZONE
TZID:America/Kentucky/Louisville
BEGIN:DAYLIGHT
TZOFFSETFROM:-0600
TZNAME:MDT
TZOFFSETTO:-0600
END:DAYLIGHT
END:VTIMEZONE
DTSTAMP:20260419T095204Z
UID:69e4de046b2ec
BEGIN:VEVENT
LOCATION:Northeast Regional, 15 Bellevoir Circle, Louisville, KY US 40223
DESCRIPTION:<p>Trapped in an ancient Egyptian tomb, your only way out is through teamwork and quick thinking. Solve puzzles, uncover hidden clues, and see if you can escape in time! Pre-registration is required. &nbsp;Teens can sign up in groups with a minimum of 4 up to a maximum of 6 members. Teens signing up individually will be placed with a team. To register, call 502-394-0379 or email northeastyouthservices@lfpl.org. Space is limited. Ages 12 -18.</p>
DTSTART;TZID=America/Kentucky/Louisville:20260408T130000
DTEND;TZID=America/Kentucky/Louisville:20260408T170000
SUMMARY:Escape the Tomb Escape Room
URL;VALUE=URI:/escape-tomb-escape-room-0
END:VEVENT
END:VCALENDAR